BEGIN:VCALENDAR
VERSION:2.0
PRODID:-//AGW-Online - ECPv6.6.0.1//NONSGML v1.0//EN
CALSCALE:GREGORIAN
METHOD:PUBLISH
X-WR-CALNAME:AGW-Online
X-ORIGINAL-URL:https://agw-online.de
X-WR-CALDESC:Veranstaltungen für AGW-Online
REFRESH-INTERVAL;VALUE=DURATION:PT1H
X-Robots-Tag:noindex
X-PUBLISHED-TTL:PT1H
BEGIN:VTIMEZONE
TZID:Europe/Helsinki
BEGIN:DAYLIGHT
TZOFFSETFROM:+0200
TZOFFSETTO:+0300
TZNAME:EEST
DTSTART:20260329T010000
END:DAYLIGHT
BEGIN:STANDARD
TZOFFSETFROM:+0300
TZOFFSETTO:+0200
TZNAME:EET
DTSTART:20261025T010000
END:STANDARD
END:VTIMEZONE
BEGIN:VEVENT
DTSTART;VALUE=DATE:20260423
DTEND;VALUE=DATE:20260425
DTSTAMP:20260424T153205
CREATED:20250722T075535Z
LAST-MODIFIED:20260303T103559Z
UID:9826-1776902400-1777075199@agw-online.de
SUMMARY:AK Betriebswirtschaft - Frühjahrstagung 2026 in Düsseldorf
DESCRIPTION:Zur Frühjahrstagung des AGW Arbeitskreises Betriebswirtschaft am 23. und 24. April 2026 laden wir Sie herzlich nach Düsseldorf zur \nLEG IMMOBILIEN SE\nFlughafenstraße 99\n40474 Düsseldorf \nein.  \nDie Tagesordnung finden Sie hier: Tagesordnung. \nAnmeldung:\nBitte melden Sie sich hier bis spätestens 15. April 2026 zur Tagung an. \nEin Zimmerkontingent ist im Hotel \nInnside by Meliá Düsseldorf Hafen\nSpeditionsstraße 9\n40221 Düsseldorf \nfür Sie reserviert. Bitte nehmen Sie die Zimmerreservierung über hier bis spätestens 25. März 2026 vor\, danach gehen nicht abgerufene Zimmer wieder in den freien Verkauf zurück. \nBei Fragen melden Sie sich gerne an uns.
URL:https://agw-online.de/veranstaltung-detail/arbeitskreis-betriebswirtschaft-fruehjahrstagung-2026-in-duesseldorf/
LOCATION:Düsseldorf\, Düsseldorf\, Deutschland
END:VEVENT
BEGIN:VEVENT
DTSTART;VALUE=DATE:20260427
DTEND;VALUE=DATE:20260429
DTSTAMP:20260424T153205
CREATED:20241107T151142Z
LAST-MODIFIED:20260401T132849Z
UID:9658-1777248000-1777420799@agw-online.de
SUMMARY:AK Personal & Organisation - Frühjahrstagung 2026 in Hannover
DESCRIPTION:Wir freuen uns darauf\, Sie und Euch am 27.- 28.04.2026 in Hannover begrüßen zu können.\nWie bereits angekündigt werden wir dieses Mal zusammen mit dem Arbeitskreis „Digitale Geschäftsmodelle“ tagen. Die Agenda ist beigefügt. \nDer gemeinsame Arbeitskreis findet im Design Offices Hannover Vahrenwald (Philipsbornstr. 2\, 30165 Hannover). Parkplätze sind ausreichend vorhanden. \nBitte meldet Euch / melden Sie sich bis zum 21. April 2026 über diesen Link zur Tagung an: Anmeldung \nZur Hotelübernachtung:\nDas NH Hotel Hannover (Am Klagesmarkt 12\, 30159 Hannover) befindet sich 950 m vom Tagungsort (Design Offices Hannover Vahrenwald)\, entfernt.  \nDas Zimmerkontingent ist vom 26.04.- 28.04.2026 zum Preis von 116\,70 Euro (Zimmer pro Nacht inkl. Frühstück am 26.04.) oder 140\,85  Euro (Zimmer pro Nacht inkl. Frühstück am 27.04.) verfügbar. Die Übernachtungen können bis zum 12. April 2026 unter dem Stichwort: „AGW“ gebucht werden. Eine Buchung nach dem 12. April ist bei Verfügbarkeit zum aktuellen Tagespreis möglich. Die Zimmer sind bis sieben Tage vor dem Anreisetag kostenfrei stornierbar. Die Übernachtungskosten tragen Sie/Ihr selbst.  \nDie Reservierung können telefonisch unter +49 (0)3022380233 oder per E-Mail: reservierungen@minor-hotels.com vorgenommen werden. \nDie Agenda finden Sie hier: Agenda 27.-28.04.26 AK Personal u. Orga Hannover
URL:https://agw-online.de/veranstaltung-detail/arbeitskreis-personal-organisation-fruehjahrstagung-2026/
LOCATION:Hannover\, Deutschland
END:VEVENT
BEGIN:VEVENT
DTSTART;VALUE=DATE:20260427
DTEND;VALUE=DATE:20260429
DTSTAMP:20260424T153205
CREATED:20251021T085850Z
LAST-MODIFIED:20260211T144830Z
UID:9871-1777248000-1777420799@agw-online.de
SUMMARY:AK Digitale Geschäftsmodelle - Frühjahrstagung 2026 in Hannover
DESCRIPTION:Wir laden Euch herzlich zur gemeinsamen Tagung der AGW-Arbeitskreise Digitale Geschäftsmodelle sowie Personal und Organisation am 27. und 28. April 2026 in Hannover ein. Die Tagung bietet die Gelegenheit\, aktuelle Themen und Fragestellungen an der Schnittstelle von digitalen Geschäftsmodellen\, Personal und Organisation gemeinsam zu diskutieren und voneinander zu lernen. \nAblauf der Tagung\nDie gemeinsame Tagung beginnt am Montag\, um 12:00 Uhr und endet gegen 18:00 Uhr. Im Anschluss\, um 19.00 Uhr\, ist ein gemeinsames Abendessen geplant.\nAm Folgetag startet die Tagung bereits um 09:30 Uhr und endet voraussichtlich gegen 14:30 Uhr. Die Agenda findet Ihr hier: Agenda – AK DiGeMo Frühjahr 2026  \nHotelkontingent\nEin Zimmerkontingent steht in folgendem Hotel zur Verfügung:\nNH Hotel Hannover\nAm Klagesmarkt 12\, 30159 Hannover\nTel. 0511 609710 \nBitte reserviert Euch schon jetzt ein Zimmer und nutzt dafür den folgenden Buchungslink\nDie gebuchten Zimmer sind anschließend bis 7 Tage vor Anreise kostenfrei stornierbar.\nDie Kosten für Anreise und Übernachtung tragen die Teilnehmenden selbst. \nBitte meldet Euch bis zum 18.02.2026 an. Zur Anmeldung geht’s hier
URL:https://agw-online.de/veranstaltung-detail/arbeitskreis-digitale-geschaeftsmodelle-fruehjahrstagung-2026-in-hannover/
LOCATION:Hannover\, Deutschland
END:VEVENT
BEGIN:VEVENT
DTSTART;TZID=Europe/Helsinki:20260512T130000
DTEND;TZID=Europe/Helsinki:20260512T150000
DTSTAMP:20260424T153205
CREATED:20260401T124540Z
LAST-MODIFIED:20260401T124540Z
UID:10015-1778590800-1778598000@agw-online.de
SUMMARY:Netzwerk Einkauf – 12.05.2026 - digital
DESCRIPTION:Netzwerk Einkauf am 12.05.2026 – digitales Treffen \nDas Netzwerk Einkauf findet am 12.05\,2026 13:00 – 15:00 Uhr per Teams statt. \nDer Link wird einige Tage vorher veröffentlicht \nBei Fragen zum digitalen Treffen des Netzwerks Einkauf wenden Sie sich bitte direkt an Alexander Wagner
URL:https://agw-online.de/veranstaltung-detail/netzwerk-einkauf-12-05-2026-digital/
LOCATION:Frankfurt\, Frankfurt
END:VEVENT
BEGIN:VEVENT
DTSTART;VALUE=DATE:20260521
DTEND;VALUE=DATE:20260523
DTSTAMP:20260424T153205
CREATED:20241107T151003Z
LAST-MODIFIED:20251021T090622Z
UID:9656-1779321600-1779494399@agw-online.de
SUMMARY:AK Technik - Frühjahrstagung 2026
DESCRIPTION:Die Frühjahrstagung des Arbeitskreis Technik findet am 21./22. Mai 2026 statt \nBei weiteren Fragen wenden sie sich bitte NGiesa@saga.hamburg
URL:https://agw-online.de/veranstaltung-detail/arbeitskreis-technik-fruehjahrstagung-2026/
END:VEVENT
BEGIN:VEVENT
DTSTART;VALUE=DATE:20260618
DTEND;VALUE=DATE:20260619
DTSTAMP:20260424T153205
CREATED:20250722T074851Z
LAST-MODIFIED:20250722T074851Z
UID:9824-1781740800-1781827199@agw-online.de
SUMMARY:AGW Plenum - Frühjahrstagung 2026 in Berlin
DESCRIPTION:Der AGW Vorstand tagt am 17. Juni 2026. \nDie Frühjahrstagung des Plenums findet am 18. Juni 2026 statt.
URL:https://agw-online.de/veranstaltung-detail/agw-plenum-fruehjahrstagung-2026-in-berlin-2/
LOCATION:Berlin
END:VEVENT
BEGIN:VEVENT
DTSTART;VALUE=DATE:20260928
DTEND;VALUE=DATE:20260930
DTSTAMP:20260424T153205
CREATED:20240313T143155Z
LAST-MODIFIED:20251021T090142Z
UID:9401-1790553600-1790726399@agw-online.de
SUMMARY:AK Personal & Organisation – Herbsttagung 2026 in Wolfsburg
DESCRIPTION:AK Personal und Organisation am 28./29.09.2026 in Wolfsburg
URL:https://agw-online.de/veranstaltung-detail/ak-personal-organisation-herbsttagung-2026/
END:VEVENT
BEGIN:VEVENT
DTSTART;VALUE=DATE:20261105
DTEND;VALUE=DATE:20261107
DTSTAMP:20260424T153205
CREATED:20251021T090456Z
LAST-MODIFIED:20260302T151339Z
UID:9875-1793836800-1794009599@agw-online.de
SUMMARY:AK Betriebswirtschaft – Herbsttagung 2026 in Augsburg
DESCRIPTION:AK Betriebswirtschaft am 05./06.11.2026 in Augsburg \nBei Fragen oder wenn Sie weitere Informationen benötigen\, melden Sie sich bitte hier.
URL:https://agw-online.de/veranstaltung-detail/ak-betriebswirtschaft-herbsttagung-2026/
LOCATION:Augsburg
END:VEVENT
BEGIN:VEVENT
DTSTART;VALUE=DATE:20261126
DTEND;VALUE=DATE:20261127
DTSTAMP:20260424T153205
CREATED:20250805T084355Z
LAST-MODIFIED:20250805T084355Z
UID:9848-1795651200-1795737599@agw-online.de
SUMMARY:AGW Plenum - Herbsttagung 2026 in Frankfurt
DESCRIPTION:Der AGW Vorstand tagt am 25. November 2026. \nDie Herbsttagung des Plenums findet am 26. November 2026 statt.
URL:https://agw-online.de/veranstaltung-detail/agw-plenum-herbsttagung-2026-in-frankfurt/
LOCATION:Frankfurt\, Frankfurt
END:VEVENT
END:VCALENDAR